BEGIN:VCALENDAR
VERSION:2.0
PRODID:-//Ville de Yutz - ECPv6.15.16//NONSGML v1.0//EN
CALSCALE:GREGORIAN
METHOD:PUBLISH
X-ORIGINAL-URL:https://www.ville-yutz.fr
X-WR-CALDESC:Évènements pour Ville de Yutz
REFRESH-INTERVAL;VALUE=DURATION:PT1H
X-Robots-Tag:noindex
X-PUBLISHED-TTL:PT1H
BEGIN:VTIMEZONE
TZID:Europe/Paris
BEGIN:DAYLIGHT
TZOFFSETFROM:+0100
TZOFFSETTO:+0200
TZNAME:CEST
DTSTART:20240331T010000
END:DAYLIGHT
BEGIN:STANDARD
TZOFFSETFROM:+0200
TZOFFSETTO:+0100
TZNAME:CET
DTSTART:20241027T010000
END:STANDARD
BEGIN:DAYLIGHT
TZOFFSETFROM:+0100
TZOFFSETTO:+0200
TZNAME:CEST
DTSTART:20250330T010000
END:DAYLIGHT
BEGIN:STANDARD
TZOFFSETFROM:+0200
TZOFFSETTO:+0100
TZNAME:CET
DTSTART:20251026T010000
END:STANDARD
BEGIN:DAYLIGHT
TZOFFSETFROM:+0100
TZOFFSETTO:+0200
TZNAME:CEST
DTSTART:20260329T010000
END:DAYLIGHT
BEGIN:STANDARD
TZOFFSETFROM:+0200
TZOFFSETTO:+0100
TZNAME:CET
DTSTART:20261025T010000
END:STANDARD
END:VTIMEZONE
BEGIN:VEVENT
DTSTART;VALUE=DATE:20250212
DTEND;VALUE=DATE:20250213
DTSTAMP:20260423T230043
CREATED:20250130T163857Z
LAST-MODIFIED:20250204T164935Z
UID:36262-1739318400-1739404799@www.ville-yutz.fr
SUMMARY:Portes Ouvertes du Pôle Formation UIMM Lorraine
DESCRIPTION:De 9h à 12h et de 14h à 16h30 \nLeurs 6 sites vous ouvrent leurs portes pour vous accueillir et vous faire découvrir l’univers de l’industrie :\nYutz\, Bar-le-Duc\, Thaon-les-Vosges\, Henriville\, Nancy Maxéville\, Saint-Dié-des-Vosges \nDécouverte des formations\, du CAP au diplôme d’ingénieur. \n\nPrès de 50 formations dans les métiers industriels\, allant de la chaudronnerie à l’électrotechnique\, en passant par l’usinage et la maintenance industrielle.\n\nPour plus d’informations : recrutement@formation-industries-lorraine.com\nTél. : 03.83.95.35.32 \n 
URL:https://www.ville-yutz.fr/event/portes-ouvertes-du-pole-formation-uimm-lorraine/
LOCATION:Pôle Formation UIMM Lorraine – Site Portes de Frances-Thionville\, Espace Cormontaigne\, 3 avenue Gabriel Lippmann\, YUTZ\, 57970
CATEGORIES:emploi
ATTACH;FMTTYPE=image/jpeg:https://www.ville-yutz.fr/wp-content/uploads/2025/01/2025-02-12-Portes-ouvertes-UIMM.jpg
END:VEVENT
END:VCALENDAR