BEGIN:VCALENDAR
VERSION:2.0
PRODID:-//Ville de Yutz - ECPv6.15.16//NONSGML v1.0//EN
CALSCALE:GREGORIAN
METHOD:PUBLISH
X-ORIGINAL-URL:https://www.ville-yutz.fr
X-WR-CALDESC:Évènements pour Ville de Yutz
REFRESH-INTERVAL;VALUE=DURATION:PT1H
X-Robots-Tag:noindex
X-PUBLISHED-TTL:PT1H
BEGIN:VTIMEZONE
TZID:Europe/Paris
BEGIN:DAYLIGHT
TZOFFSETFROM:+0100
TZOFFSETTO:+0200
TZNAME:CEST
DTSTART:20240331T010000
END:DAYLIGHT
BEGIN:STANDARD
TZOFFSETFROM:+0200
TZOFFSETTO:+0100
TZNAME:CET
DTSTART:20241027T010000
END:STANDARD
BEGIN:DAYLIGHT
TZOFFSETFROM:+0100
TZOFFSETTO:+0200
TZNAME:CEST
DTSTART:20250330T010000
END:DAYLIGHT
BEGIN:STANDARD
TZOFFSETFROM:+0200
TZOFFSETTO:+0100
TZNAME:CET
DTSTART:20251026T010000
END:STANDARD
BEGIN:DAYLIGHT
TZOFFSETFROM:+0100
TZOFFSETTO:+0200
TZNAME:CEST
DTSTART:20260329T010000
END:DAYLIGHT
BEGIN:STANDARD
TZOFFSETFROM:+0200
TZOFFSETTO:+0100
TZNAME:CET
DTSTART:20261025T010000
END:STANDARD
END:VTIMEZONE
BEGIN:VEVENT
DTSTART;VALUE=DATE:20250206
DTEND;VALUE=DATE:20250207
DTSTAMP:20260423T230016
CREATED:20250130T170922Z
LAST-MODIFIED:20250130T170922Z
UID:36296-1738800000-1738886399@www.ville-yutz.fr
SUMMARY:Portes ouvertes à l'AFPA !
DESCRIPTION:De 9h à 12h30 et de 13h30 à 16h\n\n\n\n Vous êtes demandeurs d’emploi\, salariés\, jeunes\, personnes en reconversion ? Vous avez des projets professionnels en tête ou êtes à la recherche d’inspiration pour votre carrière ?\n\n\n\nCes portes ouvertes sont l’occasion :\n de vous informer sur les métiers et les formations adaptés à votre profil\,\n de faire le point sur les solutions d’accompagnement personnalisées qui répondront à vos besoins\,\n d’échanger avec des conseillers expérimentés pour découvrir les différentes prises en charge de votre projet\,\n de visiter les ateliers de formation\,\n de rencontrer les formateurs et échanger avec des stagiaires en formation\,\n d’assister à des ateliers et des conférences pratiques.
URL:https://www.ville-yutz.fr/event/portes-ouvertes-a-lafpa-2/
LOCATION:AFPA de Thionville-Yutz\, Route d'Illange\, YUTZ\, -\, 57970\, France
CATEGORIES:emploi,Scolaire / Formation
ATTACH;FMTTYPE=image/jpeg:https://www.ville-yutz.fr/wp-content/uploads/2025/01/2025-02-06-JPO-AFPA-2-scaled.jpg
END:VEVENT
END:VCALENDAR