BEGIN:VCALENDAR
VERSION:2.0
PRODID:-//Ville de Yutz - ECPv6.15.16//NONSGML v1.0//EN
CALSCALE:GREGORIAN
METHOD:PUBLISH
X-WR-CALNAME:Ville de Yutz
X-ORIGINAL-URL:https://www.ville-yutz.fr
X-WR-CALDESC:Évènements pour Ville de Yutz
REFRESH-INTERVAL;VALUE=DURATION:PT1H
X-Robots-Tag:noindex
X-PUBLISHED-TTL:PT1H
BEGIN:VTIMEZONE
TZID:Europe/Paris
BEGIN:DAYLIGHT
TZOFFSETFROM:+0100
TZOFFSETTO:+0200
TZNAME:CEST
DTSTART:20240331T010000
END:DAYLIGHT
BEGIN:STANDARD
TZOFFSETFROM:+0200
TZOFFSETTO:+0100
TZNAME:CET
DTSTART:20241027T010000
END:STANDARD
BEGIN:DAYLIGHT
TZOFFSETFROM:+0100
TZOFFSETTO:+0200
TZNAME:CEST
DTSTART:20250330T010000
END:DAYLIGHT
BEGIN:STANDARD
TZOFFSETFROM:+0200
TZOFFSETTO:+0100
TZNAME:CET
DTSTART:20251026T010000
END:STANDARD
BEGIN:DAYLIGHT
TZOFFSETFROM:+0100
TZOFFSETTO:+0200
TZNAME:CEST
DTSTART:20260329T010000
END:DAYLIGHT
BEGIN:STANDARD
TZOFFSETFROM:+0200
TZOFFSETTO:+0100
TZNAME:CET
DTSTART:20261025T010000
END:STANDARD
END:VTIMEZONE
BEGIN:VEVENT
DTSTART;TZID=Europe/Paris:20250204T090000
DTEND;TZID=Europe/Paris:20250204T140000
DTSTAMP:20260423T225848
CREATED:20250130T143626Z
LAST-MODIFIED:20250130T143724Z
UID:36253-1738659600-1738677600@www.ville-yutz.fr
SUMMARY:Salon de l'intérim spécial Luxembourg
DESCRIPTION:Plus de 5 000 postes à pourvoir dans divers secteurs tels que :\n Le BTP\n L’industrie\n Le tertiaire\n L’hôtellerie-restauration\n Le secteur médical…\n\n\n\nCet événement réunira plus de 20 entreprises de travail intérimaire actives au Grand-Duché. C’est une occasion unique de rencontrer des recruteurs et de découvrir des opportunités d’emploi au Luxembourg.\n\n 
URL:https://www.ville-yutz.fr/event/salon-de-linterim-special-luxembourg/
LOCATION:L’amphY\, 126 rue de la République\, YUTZ\, 57970\, France
CATEGORIES:emploi
ATTACH;FMTTYPE=image/jpeg:https://www.ville-yutz.fr/wp-content/uploads/2025/01/2025-02-04-salon-interim-FEDIL-2.jpg
END:VEVENT
END:VCALENDAR