BEGIN:VCALENDAR
VERSION:2.0
PRODID:-//Ville de Yutz - ECPv6.15.16//NONSGML v1.0//EN
CALSCALE:GREGORIAN
METHOD:PUBLISH
X-WR-CALNAME:Ville de Yutz
X-ORIGINAL-URL:https://www.ville-yutz.fr
X-WR-CALDESC:Évènements pour Ville de Yutz
REFRESH-INTERVAL;VALUE=DURATION:PT1H
X-Robots-Tag:noindex
X-PUBLISHED-TTL:PT1H
BEGIN:VTIMEZONE
TZID:Europe/Paris
BEGIN:DAYLIGHT
TZOFFSETFROM:+0100
TZOFFSETTO:+0200
TZNAME:CEST
DTSTART:20220327T010000
END:DAYLIGHT
BEGIN:STANDARD
TZOFFSETFROM:+0200
TZOFFSETTO:+0100
TZNAME:CET
DTSTART:20221030T010000
END:STANDARD
BEGIN:DAYLIGHT
TZOFFSETFROM:+0100
TZOFFSETTO:+0200
TZNAME:CEST
DTSTART:20230326T010000
END:DAYLIGHT
BEGIN:STANDARD
TZOFFSETFROM:+0200
TZOFFSETTO:+0100
TZNAME:CET
DTSTART:20231029T010000
END:STANDARD
BEGIN:DAYLIGHT
TZOFFSETFROM:+0100
TZOFFSETTO:+0200
TZNAME:CEST
DTSTART:20240331T010000
END:DAYLIGHT
BEGIN:STANDARD
TZOFFSETFROM:+0200
TZOFFSETTO:+0100
TZNAME:CET
DTSTART:20241027T010000
END:STANDARD
END:VTIMEZONE
BEGIN:VEVENT
DTSTART;TZID=Europe/Paris:20230624T083000
DTEND;TZID=Europe/Paris:20230624T133000
DTSTAMP:20260425T010248
CREATED:20230614T092009Z
LAST-MODIFIED:20230614T092009Z
UID:19710-1687595400-1687613400@www.ville-yutz.fr
SUMMARY:Portes Ouvertes ALTERNANCE - métiers de la logistique et de l’automobile
DESCRIPTION:en partenariat avec Car Avenue\, Leclerc Auto\, Feu vert\, Renault et Mission Locale du Nord Mosellan. \n 
URL:https://www.ville-yutz.fr/event/portes-ouvertes-alternance-metiers-de-la-logistique-et-de-lautomobile/
CATEGORIES:emploi,Scolaire / Formation
ATTACH;FMTTYPE=image/png:https://www.ville-yutz.fr/wp-content/uploads/2023/06/2023-06-24-Affiche-JPO-alternance-YUTZ.png
END:VEVENT
END:VCALENDAR