BEGIN:VCALENDAR
VERSION:2.0
PRODID:-//Ville de Yutz - ECPv6.15.16//NONSGML v1.0//EN
CALSCALE:GREGORIAN
METHOD:PUBLISH
X-WR-CALNAME:Ville de Yutz
X-ORIGINAL-URL:https://www.ville-yutz.fr
X-WR-CALDESC:Évènements pour Ville de Yutz
REFRESH-INTERVAL;VALUE=DURATION:PT1H
X-Robots-Tag:noindex
X-PUBLISHED-TTL:PT1H
BEGIN:VTIMEZONE
TZID:Europe/Paris
BEGIN:DAYLIGHT
TZOFFSETFROM:+0100
TZOFFSETTO:+0200
TZNAME:CEST
DTSTART:20240331T010000
END:DAYLIGHT
BEGIN:STANDARD
TZOFFSETFROM:+0200
TZOFFSETTO:+0100
TZNAME:CET
DTSTART:20241027T010000
END:STANDARD
BEGIN:DAYLIGHT
TZOFFSETFROM:+0100
TZOFFSETTO:+0200
TZNAME:CEST
DTSTART:20250330T010000
END:DAYLIGHT
BEGIN:STANDARD
TZOFFSETFROM:+0200
TZOFFSETTO:+0100
TZNAME:CET
DTSTART:20251026T010000
END:STANDARD
BEGIN:DAYLIGHT
TZOFFSETFROM:+0100
TZOFFSETTO:+0200
TZNAME:CEST
DTSTART:20260329T010000
END:DAYLIGHT
BEGIN:STANDARD
TZOFFSETFROM:+0200
TZOFFSETTO:+0100
TZNAME:CET
DTSTART:20261025T010000
END:STANDARD
END:VTIMEZONE
BEGIN:VEVENT
DTSTART;TZID=Europe/Paris:20251126T190000
DTEND;TZID=Europe/Paris:20251126T190000
DTSTAMP:20260422T015928
CREATED:20251124T164212Z
LAST-MODIFIED:20251124T164354Z
UID:45465-1764183600-1764183600@www.ville-yutz.fr
SUMMARY:Conférence grand public : et si on parlait santé ensemble
DESCRIPTION:La Communauté Professionnelle Territoriale de Santé (CPTS) Thionville Est vous invite à une grande conférence participative pour mieux comprendre les parcours de soins :\n\n\n \n\n\n▪️Trouver un médecin traitant\,\n\n\n▪️Savoir qui contacter en cas d’urgence non vitale\,\n\n\n▪️Découvrir les services de prévention\,\n\n\n▪️Mieux connaître le rôle des professionnels de santé… \n\n\n \n\n\nDes soignants seront présents pour répondre à vos questions\, écouter vos besoins et échanger avec vous.\n\n\n \n\n\nEntrée libre – Ouvert à tous
URL:https://www.ville-yutz.fr/event/conference-grand-public-et-si-on-parlait-sante-ensemble/
LOCATION:Salle du Casino municipal de Thionville\, 43 rue de Paris\, THIONVILLE\, 57100
CATEGORIES:Conférences,Général
ATTACH;FMTTYPE=image/jpeg:https://www.ville-yutz.fr/wp-content/uploads/2025/11/2025-11-26-conference-CPTS.jpg
ORGANIZER;CN="CPTS Thionville Est":MAILTO:contact@cpts-thionville-est.fr
END:VEVENT
END:VCALENDAR