BEGIN:VCALENDAR
VERSION:2.0
PRODID:-//Ville de Yutz - ECPv6.15.16//NONSGML v1.0//EN
CALSCALE:GREGORIAN
METHOD:PUBLISH
X-WR-CALNAME:Ville de Yutz
X-ORIGINAL-URL:https://www.ville-yutz.fr
X-WR-CALDESC:Évènements pour Ville de Yutz
REFRESH-INTERVAL;VALUE=DURATION:PT1H
X-Robots-Tag:noindex
X-PUBLISHED-TTL:PT1H
BEGIN:VTIMEZONE
TZID:Europe/Paris
BEGIN:DAYLIGHT
TZOFFSETFROM:+0100
TZOFFSETTO:+0200
TZNAME:CEST
DTSTART:20250330T010000
END:DAYLIGHT
BEGIN:STANDARD
TZOFFSETFROM:+0200
TZOFFSETTO:+0100
TZNAME:CET
DTSTART:20251026T010000
END:STANDARD
BEGIN:DAYLIGHT
TZOFFSETFROM:+0100
TZOFFSETTO:+0200
TZNAME:CEST
DTSTART:20260329T010000
END:DAYLIGHT
BEGIN:STANDARD
TZOFFSETFROM:+0200
TZOFFSETTO:+0100
TZNAME:CET
DTSTART:20261025T010000
END:STANDARD
BEGIN:DAYLIGHT
TZOFFSETFROM:+0100
TZOFFSETTO:+0200
TZNAME:CEST
DTSTART:20270328T010000
END:DAYLIGHT
BEGIN:STANDARD
TZOFFSETFROM:+0200
TZOFFSETTO:+0100
TZNAME:CET
DTSTART:20271031T010000
END:STANDARD
END:VTIMEZONE
BEGIN:VEVENT
DTSTART;TZID=Europe/Paris:20260417T140000
DTEND;TZID=Europe/Paris:20260419T180000
DTSTAMP:20260419T155659
CREATED:20260416T162620Z
LAST-MODIFIED:20260417T152006Z
UID:49064-1776434400-1776621600@www.ville-yutz.fr
SUMMARY:Exposition de peinture "RACINE" de Sophoan Cao
DESCRIPTION:
URL:https://www.ville-yutz.fr/event/exposition-de-peinture-racine-de-sophoan-cao/
LOCATION:Maison des Bains\, 100 Grand'rue\, YUTZ\, 57970
CATEGORIES:Culture
ATTACH;FMTTYPE=image/jpeg:https://www.ville-yutz.fr/wp-content/uploads/2026/04/2026-04-17-au-19-expo-peinture-sophoan-scaled.jpg
END:VEVENT
BEGIN:VEVENT
DTSTART;TZID=Europe/Paris:20260418T100000
DTEND;TZID=Europe/Paris:20260418T100000
DTSTAMP:20260419T155659
CREATED:20260417T152919Z
LAST-MODIFIED:20260417T152919Z
UID:49084-1776506400-1776506400@www.ville-yutz.fr
SUMMARY:FC Yutz U6-U7 / Plateau
DESCRIPTION:
URL:https://www.ville-yutz.fr/event/fc-yutz-u6-u7-plateau-4/
LOCATION:Stade Mermoz
CATEGORIES:Sports
ORGANIZER;CN="FC Yutz":MAILTO:utz.fc@moselle.lgef.fr
END:VEVENT
BEGIN:VEVENT
DTSTART;TZID=Europe/Paris:20260418T130000
DTEND;TZID=Europe/Paris:20260418T150000
DTSTAMP:20260419T155659
CREATED:20260417T153008Z
LAST-MODIFIED:20260417T153008Z
UID:49086-1776517200-1776524400@www.ville-yutz.fr
SUMMARY:FC Yutz U12 / Rombas
DESCRIPTION:
URL:https://www.ville-yutz.fr/event/fc-yutz-u12-rombas/
LOCATION:Stade Mermoz
CATEGORIES:Sports
ORGANIZER;CN="FC Yutz":MAILTO:utz.fc@moselle.lgef.fr
END:VEVENT
BEGIN:VEVENT
DTSTART;TZID=Europe/Paris:20260418T130000
DTEND;TZID=Europe/Paris:20260418T150000
DTSTAMP:20260419T155659
CREATED:20260417T153102Z
LAST-MODIFIED:20260417T153102Z
UID:49088-1776517200-1776524400@www.ville-yutz.fr
SUMMARY:FC Yutz U13 / Devant-les-Ponts
DESCRIPTION:
URL:https://www.ville-yutz.fr/event/fc-yutz-u13-devant-les-ponts-2/
LOCATION:Stade Mermoz
CATEGORIES:Sports
ORGANIZER;CN="FC Yutz":MAILTO:utz.fc@moselle.lgef.fr
END:VEVENT
BEGIN:VEVENT
DTSTART;TZID=Europe/Paris:20260418T200000
DTEND;TZID=Europe/Paris:20260418T200000
DTSTAMP:20260419T155659
CREATED:20260416T160306Z
LAST-MODIFIED:20260416T160306Z
UID:49056-1776542400-1776542400@www.ville-yutz.fr
SUMMARY:Concert solidaire au profit des orphelins d'Haïti
DESCRIPTION:Coraline et Carmelo Pennisi vous entraineront dans une promenade musicale de Bach avec orgue\, piano et violon.
URL:https://www.ville-yutz.fr/event/concert-solidaire-au-profit-des-orphelins-dhaiti/
LOCATION:Temple protestant\, 19 rue de la République\, Yutz\, 57970
CATEGORIES:Culture
ATTACH;FMTTYPE=image/jpeg:https://www.ville-yutz.fr/wp-content/uploads/2026/04/2026-04-18-concert-solidaire-temple.jpg
END:VEVENT
END:VCALENDAR