BEGIN:VCALENDAR
VERSION:2.0
PRODID:-//Ville de Yutz - ECPv6.15.16//NONSGML v1.0//EN
CALSCALE:GREGORIAN
METHOD:PUBLISH
X-WR-CALNAME:Ville de Yutz
X-ORIGINAL-URL:https://www.ville-yutz.fr
X-WR-CALDESC:Évènements pour Ville de Yutz
REFRESH-INTERVAL;VALUE=DURATION:PT1H
X-Robots-Tag:noindex
X-PUBLISHED-TTL:PT1H
BEGIN:VTIMEZONE
TZID:Europe/Paris
BEGIN:DAYLIGHT
TZOFFSETFROM:+0100
TZOFFSETTO:+0200
TZNAME:CEST
DTSTART:20250330T010000
END:DAYLIGHT
BEGIN:STANDARD
TZOFFSETFROM:+0200
TZOFFSETTO:+0100
TZNAME:CET
DTSTART:20251026T010000
END:STANDARD
BEGIN:DAYLIGHT
TZOFFSETFROM:+0100
TZOFFSETTO:+0200
TZNAME:CEST
DTSTART:20260329T010000
END:DAYLIGHT
BEGIN:STANDARD
TZOFFSETFROM:+0200
TZOFFSETTO:+0100
TZNAME:CET
DTSTART:20261025T010000
END:STANDARD
BEGIN:DAYLIGHT
TZOFFSETFROM:+0100
TZOFFSETTO:+0200
TZNAME:CEST
DTSTART:20270328T010000
END:DAYLIGHT
BEGIN:STANDARD
TZOFFSETFROM:+0200
TZOFFSETTO:+0100
TZNAME:CET
DTSTART:20271031T010000
END:STANDARD
END:VTIMEZONE
BEGIN:VEVENT
DTSTART;VALUE=DATE:20260415
DTEND;VALUE=DATE:20260416
DTSTAMP:20260419T155729
CREATED:20260409T162312Z
LAST-MODIFIED:20260409T162312Z
UID:48813-1776211200-1776297599@www.ville-yutz.fr
SUMMARY:Journée Portes ouvertes au Pôle formation UIMM Lorraine - site de Yutz
DESCRIPTION:🔎 Vous recherchez un emploi\, une alternance ou souhaitez vous orienter vers un nouveau métier ?\n\n\n \n\n\nLe Pôle Formation UIMM Lorraine vous ouvre ses portes le 15 avril ! 🚀\n\n\n🕥 de 9h à 12h et de 13h30 à 16h30\n\n\n \n\n\n👉 Découvrez les métiers de l’industrie (maintenance\, production\, usinage\, chaudronnerie\, etc.)\n\n\n👉 Échangez avec des professionnels et bénéficiez de conseils pour construire votre projet\n\n\n \n\n\n💬 Que vous soyez en reconversion ou en début de parcours\, cette journée est l’occasion de mieux connaître ces métiers et les formations proposées.\n\n\n \n\n\n☎ Plus d’informations auprès du Pôle Formation UIMM Lorraine : 03.82.82.43.99
URL:https://www.ville-yutz.fr/event/journee-portes-ouvertes-au-pole-formation-uimm-lorraine-site-de-yutz/
LOCATION:Pôle Formation UIMM Lorraine – Site Portes de Frances-Thionville\, Espace Cormontaigne\, 3 avenue Gabriel Lippmann\, YUTZ\, 57970
CATEGORIES:emploi,Scolaire / Formation
ATTACH;FMTTYPE=image/jpeg:https://www.ville-yutz.fr/wp-content/uploads/2026/04/2026-04-15-UIMM-JPO-15-avril-Yutz-scaled.jpg
END:VEVENT
BEGIN:VEVENT
DTSTART;TZID=Europe/Paris:20260415T153000
DTEND;TZID=Europe/Paris:20260415T193000
DTSTAMP:20260419T155729
CREATED:20251208T083832Z
LAST-MODIFIED:20260320T135709Z
UID:45740-1776267000-1776281400@www.ville-yutz.fr
SUMMARY:Don du sang
DESCRIPTION:
URL:https://www.ville-yutz.fr/event/don-du-sang-20/
LOCATION:L’amphY\, 126 rue de la République\, YUTZ\, 57970\, France
CATEGORIES:Solidarité
ATTACH;FMTTYPE=image/jpeg:https://www.ville-yutz.fr/wp-content/uploads/2025/12/EFS_Post-1.jpg
END:VEVENT
END:VCALENDAR