BEGIN:VCALENDAR
VERSION:2.0
PRODID:-//Ville de Yutz - ECPv6.15.16//NONSGML v1.0//EN
CALSCALE:GREGORIAN
METHOD:PUBLISH
X-ORIGINAL-URL:https://www.ville-yutz.fr
X-WR-CALDESC:Évènements pour Ville de Yutz
REFRESH-INTERVAL;VALUE=DURATION:PT1H
X-Robots-Tag:noindex
X-PUBLISHED-TTL:PT1H
BEGIN:VTIMEZONE
TZID:Europe/Paris
BEGIN:DAYLIGHT
TZOFFSETFROM:+0100
TZOFFSETTO:+0200
TZNAME:CEST
DTSTART:20250330T010000
END:DAYLIGHT
BEGIN:STANDARD
TZOFFSETFROM:+0200
TZOFFSETTO:+0100
TZNAME:CET
DTSTART:20251026T010000
END:STANDARD
BEGIN:DAYLIGHT
TZOFFSETFROM:+0100
TZOFFSETTO:+0200
TZNAME:CEST
DTSTART:20260329T010000
END:DAYLIGHT
BEGIN:STANDARD
TZOFFSETFROM:+0200
TZOFFSETTO:+0100
TZNAME:CET
DTSTART:20261025T010000
END:STANDARD
BEGIN:DAYLIGHT
TZOFFSETFROM:+0100
TZOFFSETTO:+0200
TZNAME:CEST
DTSTART:20270328T010000
END:DAYLIGHT
BEGIN:STANDARD
TZOFFSETFROM:+0200
TZOFFSETTO:+0100
TZNAME:CET
DTSTART:20271031T010000
END:STANDARD
END:VTIMEZONE
BEGIN:VEVENT
DTSTART;TZID=Europe/Paris:20260410T180000
DTEND;TZID=Europe/Paris:20260410T180000
DTSTAMP:20260419T155741
CREATED:20260410T103514Z
LAST-MODIFIED:20260410T103514Z
UID:48857-1775844000-1775844000@www.ville-yutz.fr
SUMMARY:Conseil municipal
DESCRIPTION:
URL:https://www.ville-yutz.fr/event/conseil-municipal-25/
LOCATION:Salle Bestien
CATEGORIES:Conseil Municipal
ATTACH;FMTTYPE=image/jpeg:https://www.ville-yutz.fr/wp-content/uploads/2025/04/conseil-municipal.jpg
END:VEVENT
BEGIN:VEVENT
DTSTART;TZID=Europe/Paris:20260410T203000
DTEND;TZID=Europe/Paris:20260410T220000
DTSTAMP:20260419T155741
CREATED:20260410T101841Z
LAST-MODIFIED:20260410T101841Z
UID:48854-1775853000-1775858400@www.ville-yutz.fr
SUMMARY:MJC : Théâtre "La bonne Anna" Cie Les baladins
DESCRIPTION:
URL:https://www.ville-yutz.fr/event/mjc-theatre-la-bonne-anna-cie-les-baladins/
LOCATION:M.J.C. la Pépinière Yutz\, 30 Rue de la Pépinière\, Yutz\, 57970\, France
CATEGORIES:Culture
ATTACH;FMTTYPE=image/jpeg:https://www.ville-yutz.fr/wp-content/uploads/2026/04/2026-04-10-theatre-MJC.jpg
ORGANIZER;CN="M.J.C. La P%C3%A9pini%C3%A8re":MAILTO:accueil@mjc-yutz.com
END:VEVENT
END:VCALENDAR