BEGIN:VCALENDAR
VERSION:2.0
PRODID:-//Ville de Yutz - ECPv6.15.16//NONSGML v1.0//EN
CALSCALE:GREGORIAN
METHOD:PUBLISH
X-WR-CALNAME:Ville de Yutz
X-ORIGINAL-URL:https://www.ville-yutz.fr
X-WR-CALDESC:Évènements pour Ville de Yutz
REFRESH-INTERVAL;VALUE=DURATION:PT1H
X-Robots-Tag:noindex
X-PUBLISHED-TTL:PT1H
BEGIN:VTIMEZONE
TZID:Europe/Paris
BEGIN:DAYLIGHT
TZOFFSETFROM:+0100
TZOFFSETTO:+0200
TZNAME:CEST
DTSTART:20250330T010000
END:DAYLIGHT
BEGIN:STANDARD
TZOFFSETFROM:+0200
TZOFFSETTO:+0100
TZNAME:CET
DTSTART:20251026T010000
END:STANDARD
BEGIN:DAYLIGHT
TZOFFSETFROM:+0100
TZOFFSETTO:+0200
TZNAME:CEST
DTSTART:20260329T010000
END:DAYLIGHT
BEGIN:STANDARD
TZOFFSETFROM:+0200
TZOFFSETTO:+0100
TZNAME:CET
DTSTART:20261025T010000
END:STANDARD
BEGIN:DAYLIGHT
TZOFFSETFROM:+0100
TZOFFSETTO:+0200
TZNAME:CEST
DTSTART:20270328T010000
END:DAYLIGHT
BEGIN:STANDARD
TZOFFSETFROM:+0200
TZOFFSETTO:+0100
TZNAME:CET
DTSTART:20271031T010000
END:STANDARD
END:VTIMEZONE
BEGIN:VEVENT
DTSTART;TZID=Europe/Paris:20260406T080000
DTEND;TZID=Europe/Paris:20260406T170000
DTSTAMP:20260419T170827
CREATED:20260402T144019Z
LAST-MODIFIED:20260402T144019Z
UID:48588-1775462400-1775494800@www.ville-yutz.fr
SUMMARY:LULA : Vide greniers
DESCRIPTION:
URL:https://www.ville-yutz.fr/event/lula-vide-greniers/
LOCATION:Place Saint-Nicolas\, Yutz\, 57970
CATEGORIES:Vide-greniers / brocante / Bourse aux jouets
ATTACH;FMTTYPE=image/jpeg:https://www.ville-yutz.fr/wp-content/uploads/2026/04/2026-04-06-vide-grenier-lula-scaled.jpg
END:VEVENT
BEGIN:VEVENT
DTSTART;TZID=Europe/Paris:20260406T080000
DTEND;TZID=Europe/Paris:20260406T183000
DTSTAMP:20260419T170827
CREATED:20260402T143848Z
LAST-MODIFIED:20260402T143848Z
UID:48586-1775462400-1775500200@www.ville-yutz.fr
SUMMARY:ASVB : Tournoi des 3 frontières
DESCRIPTION:
URL:https://www.ville-yutz.fr/event/asvb-tournoi-des-3-frontieres/
LOCATION:Gymnase Mermoz\, Place de l'Arc-en-Ciel\, YUTZ\, 57970
CATEGORIES:Sports
END:VEVENT
BEGIN:VEVENT
DTSTART;TZID=Europe/Paris:20260406T150000
DTEND;TZID=Europe/Paris:20260406T170000
DTSTAMP:20260419T170827
CREATED:20260402T143751Z
LAST-MODIFIED:20260402T143751Z
UID:48584-1775487600-1775494800@www.ville-yutz.fr
SUMMARY:D1 - FC Yutz : Seniors B / Hayange FC
DESCRIPTION:
URL:https://www.ville-yutz.fr/event/d1-fc-yutz-seniors-b-hayange-fc/
LOCATION:Stade Mermoz
CATEGORIES:Sports
ORGANIZER;CN="FC Yutz":MAILTO:utz.fc@moselle.lgef.fr
END:VEVENT
END:VCALENDAR