BEGIN:VCALENDAR
VERSION:2.0
PRODID:-//Ville de Yutz - ECPv6.15.16//NONSGML v1.0//EN
CALSCALE:GREGORIAN
METHOD:PUBLISH
X-ORIGINAL-URL:https://www.ville-yutz.fr
X-WR-CALDESC:Évènements pour Ville de Yutz
REFRESH-INTERVAL;VALUE=DURATION:PT1H
X-Robots-Tag:noindex
X-PUBLISHED-TTL:PT1H
BEGIN:VTIMEZONE
TZID:Europe/Paris
BEGIN:DAYLIGHT
TZOFFSETFROM:+0100
TZOFFSETTO:+0200
TZNAME:CEST
DTSTART:20250330T010000
END:DAYLIGHT
BEGIN:STANDARD
TZOFFSETFROM:+0200
TZOFFSETTO:+0100
TZNAME:CET
DTSTART:20251026T010000
END:STANDARD
BEGIN:DAYLIGHT
TZOFFSETFROM:+0100
TZOFFSETTO:+0200
TZNAME:CEST
DTSTART:20260329T010000
END:DAYLIGHT
BEGIN:STANDARD
TZOFFSETFROM:+0200
TZOFFSETTO:+0100
TZNAME:CET
DTSTART:20261025T010000
END:STANDARD
BEGIN:DAYLIGHT
TZOFFSETFROM:+0100
TZOFFSETTO:+0200
TZNAME:CEST
DTSTART:20270328T010000
END:DAYLIGHT
BEGIN:STANDARD
TZOFFSETFROM:+0200
TZOFFSETTO:+0100
TZNAME:CET
DTSTART:20271031T010000
END:STANDARD
END:VTIMEZONE
BEGIN:VEVENT
DTSTART;TZID=Europe/Paris:20260328T200000
DTEND;TZID=Europe/Paris:20260329T020000
DTSTAMP:20260419T184709
CREATED:20260319T165444Z
LAST-MODIFIED:20260319T165444Z
UID:48014-1774728000-1774749600@www.ville-yutz.fr
SUMMARY:Allée du Rêve : Repas dansant
DESCRIPTION:
URL:https://www.ville-yutz.fr/event/allee-du-reve-repas-dansant-2/
LOCATION:L’amphY\, 126 rue de la République\, YUTZ\, 57970\, France
CATEGORIES:Culture
ORGANIZER;CN="All%C3%A9e du R%C3%AAve":MAILTO:alleedureve@gmail.com
END:VEVENT
BEGIN:VEVENT
DTSTART;TZID=Europe/Paris:20260329T150000
DTEND;TZID=Europe/Paris:20260329T150000
DTSTAMP:20260419T184709
CREATED:20260129T160838Z
LAST-MODIFIED:20260129T160838Z
UID:46772-1774796400-1774796400@www.ville-yutz.fr
SUMMARY:Concert de printemps du 80e anniversaire de l'Harmonie Municipale
DESCRIPTION:
URL:https://www.ville-yutz.fr/event/concert-de-printemps-du-80e-anniversaire-de-lharmonie-municipale/
LOCATION:Salle Bestien
CATEGORIES:Culture
END:VEVENT
BEGIN:VEVENT
DTSTART;TZID=Europe/Paris:20260329T160000
DTEND;TZID=Europe/Paris:20260329T173000
DTSTAMP:20260419T184709
CREATED:20260317T162009Z
LAST-MODIFIED:20260319T171126Z
UID:47964-1774800000-1774805400@www.ville-yutz.fr
SUMMARY:Conte musical pour ensemble de harpes : DROMEN
DESCRIPTION:Les classes de harpe des conservatoires de Yutz\, Forbach et Sarreguemines vous invitent à découvrir DROMEN\, un conte musical poétique et envoûtant composé par Sabien Canton.\n\nCe projet réunit les élèves harpistes autour d’une œuvre sensible et immersive\, portée par :\n\n\n– Direction artistique : Anne-Gaëlle Schmitt\, Anne Chebenbeg\, Michèle Bastian-Hullar\n– Conteuse : Céline Merou\n\n\n\nL’histoire :\n« Le sensible Olivier part à la recherche de la recette des rêves\, comme sa grand-mère les préparait autrefois. Avec sa sœur\, il entreprend un voyage plein d’aventures : il arrive au village des gardiens du temps\, rencontre le chevalier fantasque Bisbigliando et se retrouve face à face avec des esprits de l’ombre… Mais trouvera-t-il la recette pour fabriquer des rêves ? »\n\n\n\nVenez rêver lors de ce moment musical unique\, entre narration et sonorités cristallines de la harpe !
URL:https://www.ville-yutz.fr/event/conte-musical-pour-ensemble-de-harpes-dromen/
LOCATION:Eglise Saint-Joseph\, rue de l'Ancienne Mairie\, YUTZ\, 57970
CATEGORIES:Culture
ATTACH;FMTTYPE=image/jpeg:https://www.ville-yutz.fr/wp-content/uploads/2026/03/2026-03-29-dromen-1-scaled.jpg
END:VEVENT
END:VCALENDAR