BEGIN:VCALENDAR
VERSION:2.0
PRODID:-//Ville de Yutz - ECPv6.15.16//NONSGML v1.0//EN
CALSCALE:GREGORIAN
METHOD:PUBLISH
X-ORIGINAL-URL:https://www.ville-yutz.fr
X-WR-CALDESC:Évènements pour Ville de Yutz
REFRESH-INTERVAL;VALUE=DURATION:PT1H
X-Robots-Tag:noindex
X-PUBLISHED-TTL:PT1H
BEGIN:VTIMEZONE
TZID:Europe/Paris
BEGIN:DAYLIGHT
TZOFFSETFROM:+0100
TZOFFSETTO:+0200
TZNAME:CEST
DTSTART:20250330T010000
END:DAYLIGHT
BEGIN:STANDARD
TZOFFSETFROM:+0200
TZOFFSETTO:+0100
TZNAME:CET
DTSTART:20251026T010000
END:STANDARD
BEGIN:DAYLIGHT
TZOFFSETFROM:+0100
TZOFFSETTO:+0200
TZNAME:CEST
DTSTART:20260329T010000
END:DAYLIGHT
BEGIN:STANDARD
TZOFFSETFROM:+0200
TZOFFSETTO:+0100
TZNAME:CET
DTSTART:20261025T010000
END:STANDARD
BEGIN:DAYLIGHT
TZOFFSETFROM:+0100
TZOFFSETTO:+0200
TZNAME:CEST
DTSTART:20270328T010000
END:DAYLIGHT
BEGIN:STANDARD
TZOFFSETFROM:+0200
TZOFFSETTO:+0100
TZNAME:CET
DTSTART:20271031T010000
END:STANDARD
END:VTIMEZONE
BEGIN:VEVENT
DTSTART;TZID=Europe/Paris:20260328T190000
DTEND;TZID=Europe/Paris:20260328T190000
DTSTAMP:20260419T200951
CREATED:20260319T165600Z
LAST-MODIFIED:20260319T165600Z
UID:48016-1774724400-1774724400@www.ville-yutz.fr
SUMMARY:ASVB : Régional M / Maizières-les-Metz
DESCRIPTION:
URL:https://www.ville-yutz.fr/event/asvb-regional-m-maizieres-les-metz/
LOCATION:Gymnase Mermoz\, Place de l'Arc-en-Ciel\, YUTZ\, 57970
CATEGORIES:Sports
END:VEVENT
BEGIN:VEVENT
DTSTART;TZID=Europe/Paris:20260328T200000
DTEND;TZID=Europe/Paris:20260328T220000
DTSTAMP:20260419T200951
CREATED:20260319T165145Z
LAST-MODIFIED:20260319T165145Z
UID:48011-1774728000-1774735200@www.ville-yutz.fr
SUMMARY:Concert de Chant Classique
DESCRIPTION:
URL:https://www.ville-yutz.fr/event/concert-de-chant-classique/
LOCATION:Temple protestant\, 19 rue de la République\, Yutz\, 57970
CATEGORIES:Culture
ATTACH;FMTTYPE=image/jpeg:https://www.ville-yutz.fr/wp-content/uploads/2026/03/2026-03-28-concert-de-chant-classique-scaled.jpg
END:VEVENT
BEGIN:VEVENT
DTSTART;TZID=Europe/Paris:20260328T200000
DTEND;TZID=Europe/Paris:20260329T020000
DTSTAMP:20260419T200951
CREATED:20260319T165444Z
LAST-MODIFIED:20260319T165444Z
UID:48014-1774728000-1774749600@www.ville-yutz.fr
SUMMARY:Allée du Rêve : Repas dansant
DESCRIPTION:
URL:https://www.ville-yutz.fr/event/allee-du-reve-repas-dansant-2/
LOCATION:L’amphY\, 126 rue de la République\, YUTZ\, 57970\, France
CATEGORIES:Culture
ORGANIZER;CN="All%C3%A9e du R%C3%AAve":MAILTO:alleedureve@gmail.com
END:VEVENT
BEGIN:VEVENT
DTSTART;TZID=Europe/Paris:20260328T203000
DTEND;TZID=Europe/Paris:20260328T203000
DTSTAMP:20260419T200951
CREATED:20260319T164923Z
LAST-MODIFIED:20260319T164923Z
UID:48008-1774729800-1774729800@www.ville-yutz.fr
SUMMARY:Yutz Handball N1 / Chambery Savoie Mont Blanc
DESCRIPTION:
URL:https://www.ville-yutz.fr/event/yutz-handball-n1-chambery-savoie-mont-blanc/
LOCATION:Gymnase Saint-Exupéry\, 1 rue du Gymnase\, YUTZ\, 57970\, France
CATEGORIES:Sports
ORGANIZER;CN="Yutz Handball":MAILTO:5657005@ffhandball.net
END:VEVENT
END:VCALENDAR