BEGIN:VCALENDAR
VERSION:2.0
PRODID:-//Ville de Yutz - ECPv6.15.16//NONSGML v1.0//EN
CALSCALE:GREGORIAN
METHOD:PUBLISH
X-WR-CALNAME:Ville de Yutz
X-ORIGINAL-URL:https://www.ville-yutz.fr
X-WR-CALDESC:Évènements pour Ville de Yutz
REFRESH-INTERVAL;VALUE=DURATION:PT1H
X-Robots-Tag:noindex
X-PUBLISHED-TTL:PT1H
BEGIN:VTIMEZONE
TZID:Europe/Paris
BEGIN:DAYLIGHT
TZOFFSETFROM:+0100
TZOFFSETTO:+0200
TZNAME:CEST
DTSTART:20250330T010000
END:DAYLIGHT
BEGIN:STANDARD
TZOFFSETFROM:+0200
TZOFFSETTO:+0100
TZNAME:CET
DTSTART:20251026T010000
END:STANDARD
BEGIN:DAYLIGHT
TZOFFSETFROM:+0100
TZOFFSETTO:+0200
TZNAME:CEST
DTSTART:20260329T010000
END:DAYLIGHT
BEGIN:STANDARD
TZOFFSETFROM:+0200
TZOFFSETTO:+0100
TZNAME:CET
DTSTART:20261025T010000
END:STANDARD
BEGIN:DAYLIGHT
TZOFFSETFROM:+0100
TZOFFSETTO:+0200
TZNAME:CEST
DTSTART:20270328T010000
END:DAYLIGHT
BEGIN:STANDARD
TZOFFSETFROM:+0200
TZOFFSETTO:+0100
TZNAME:CET
DTSTART:20271031T010000
END:STANDARD
END:VTIMEZONE
BEGIN:VEVENT
DTSTART;TZID=Europe/Paris:20260322T103000
DTEND;TZID=Europe/Paris:20260322T120000
DTSTAMP:20260420T052721
CREATED:20260319T162150Z
LAST-MODIFIED:20260319T162150Z
UID:47984-1774175400-1774180800@www.ville-yutz.fr
SUMMARY:Conseil municipal d'installation
DESCRIPTION:
URL:https://www.ville-yutz.fr/event/conseil-municipal-dinstallation/
LOCATION:L’amphY\, 126 rue de la République\, YUTZ\, 57970\, France
CATEGORIES:Conseil Municipal
ATTACH;FMTTYPE=image/jpeg:https://www.ville-yutz.fr/wp-content/uploads/2026/03/2026-03-22-conseil-municipal-dinstallation.jpg
END:VEVENT
BEGIN:VEVENT
DTSTART;TZID=Europe/Paris:20260322T140000
DTEND;TZID=Europe/Paris:20260322T180000
DTSTAMP:20260420T052721
CREATED:20260319T164722Z
LAST-MODIFIED:20260320T084314Z
UID:48006-1774188000-1774202400@www.ville-yutz.fr
SUMMARY:Energie Shiatsu : Portes ouvertes
DESCRIPTION:
URL:https://www.ville-yutz.fr/event/energie-shiatsu-portes-ouvertes-2/
LOCATION:Dojo Schuman\, impasse Selver\, Yutz\, 57970
CATEGORIES:Général,Sports
ATTACH;FMTTYPE=image/jpeg:https://www.ville-yutz.fr/wp-content/uploads/2026/03/2026-03-22-shiatsu-portes-ouvertes-scaled.jpg
ORGANIZER;CN="Energie Shiatsu":MAILTO:energieshiatsu@hotmail.fr
END:VEVENT
BEGIN:VEVENT
DTSTART;TZID=Europe/Paris:20260322T150000
DTEND;TZID=Europe/Paris:20260322T170000
DTSTAMP:20260420T052721
CREATED:20260319T163100Z
LAST-MODIFIED:20260319T163100Z
UID:48000-1774191600-1774198800@www.ville-yutz.fr
SUMMARY:TYGRE : Séniors / Saverne
DESCRIPTION:
URL:https://www.ville-yutz.fr/event/tygre-seniors-saverne/
LOCATION:Stade Bernard Vasquez\, Rue de la Moselle\, YUTZ\, 57970\, France
CATEGORIES:Sports
END:VEVENT
BEGIN:VEVENT
DTSTART;TZID=Europe/Paris:20260322T150000
DTEND;TZID=Europe/Paris:20260322T170000
DTSTAMP:20260420T052721
CREATED:20260319T163159Z
LAST-MODIFIED:20260319T163159Z
UID:48002-1774191600-1774198800@www.ville-yutz.fr
SUMMARY:Yutz US : Seniors C / Hauconcourt AS
DESCRIPTION:
URL:https://www.ville-yutz.fr/event/yutz-us-seniors-c-hauconcourt-as/
LOCATION:Stade de la Forêt\, rue du Stade\, Yutz\, 57970
CATEGORIES:Sports
END:VEVENT
BEGIN:VEVENT
DTSTART;TZID=Europe/Paris:20260322T150000
DTEND;TZID=Europe/Paris:20260322T170000
DTSTAMP:20260420T052721
CREATED:20260319T163316Z
LAST-MODIFIED:20260319T163316Z
UID:48004-1774191600-1774198800@www.ville-yutz.fr
SUMMARY:FC Yutz : Seniors B / Tremery FC 2
DESCRIPTION:
URL:https://www.ville-yutz.fr/event/fc-yutz-seniors-b-tremery-fc-2/
LOCATION:Stade Mermoz
CATEGORIES:Sports
ORGANIZER;CN="FC Yutz":MAILTO:utz.fc@moselle.lgef.fr
END:VEVENT
BEGIN:VEVENT
DTSTART;TZID=Europe/Paris:20260322T160000
DTEND;TZID=Europe/Paris:20260322T220000
DTSTAMP:20260420T052721
CREATED:20260319T162937Z
LAST-MODIFIED:20260319T162937Z
UID:47998-1774195200-1774216800@www.ville-yutz.fr
SUMMARY:ASVB : Match NM3 / Paris
DESCRIPTION:
URL:https://www.ville-yutz.fr/event/asvb-match-nm3-paris/
LOCATION:Gymnase Jean Mermoz\, Place de l'Arc-en-ciel\, Yutz\, 57970\, France
CATEGORIES:Sports
END:VEVENT
END:VCALENDAR