BEGIN:VCALENDAR
VERSION:2.0
PRODID:-//Ville de Yutz - ECPv6.15.16//NONSGML v1.0//EN
CALSCALE:GREGORIAN
METHOD:PUBLISH
X-ORIGINAL-URL:https://www.ville-yutz.fr
X-WR-CALDESC:Évènements pour Ville de Yutz
REFRESH-INTERVAL;VALUE=DURATION:PT1H
X-Robots-Tag:noindex
X-PUBLISHED-TTL:PT1H
BEGIN:VTIMEZONE
TZID:Europe/Paris
BEGIN:DAYLIGHT
TZOFFSETFROM:+0100
TZOFFSETTO:+0200
TZNAME:CEST
DTSTART:20250330T010000
END:DAYLIGHT
BEGIN:STANDARD
TZOFFSETFROM:+0200
TZOFFSETTO:+0100
TZNAME:CET
DTSTART:20251026T010000
END:STANDARD
BEGIN:DAYLIGHT
TZOFFSETFROM:+0100
TZOFFSETTO:+0200
TZNAME:CEST
DTSTART:20260329T010000
END:DAYLIGHT
BEGIN:STANDARD
TZOFFSETFROM:+0200
TZOFFSETTO:+0100
TZNAME:CET
DTSTART:20261025T010000
END:STANDARD
BEGIN:DAYLIGHT
TZOFFSETFROM:+0100
TZOFFSETTO:+0200
TZNAME:CEST
DTSTART:20270328T010000
END:DAYLIGHT
BEGIN:STANDARD
TZOFFSETFROM:+0200
TZOFFSETTO:+0100
TZNAME:CET
DTSTART:20271031T010000
END:STANDARD
END:VTIMEZONE
BEGIN:VEVENT
DTSTART;TZID=Europe/Paris:20260308T120000
DTEND;TZID=Europe/Paris:20260308T160000
DTSTAMP:20260421T015056
CREATED:20260302T141754Z
LAST-MODIFIED:20260302T141754Z
UID:47582-1772971200-1772985600@www.ville-yutz.fr
SUMMARY:Dom Polski : Repas traditionnel polonais
DESCRIPTION:
URL:https://www.ville-yutz.fr/event/dom-polski-repas-traditionnel-polonais/
LOCATION:Salle Bestien
CATEGORIES:Culture
ATTACH;FMTTYPE=image/png:https://www.ville-yutz.fr/wp-content/uploads/2026/03/2026-03-08-Dom-Polski-repas-polonais-du-8-mars-2026.png
END:VEVENT
BEGIN:VEVENT
DTSTART;TZID=Europe/Paris:20260308T120000
DTEND;TZID=Europe/Paris:20260308T203000
DTSTAMP:20260421T015056
CREATED:20260216T142237Z
LAST-MODIFIED:20260216T143755Z
UID:47204-1772971200-1773001800@www.ville-yutz.fr
SUMMARY:FADAMA : Repas africain
DESCRIPTION:
URL:https://www.ville-yutz.fr/event/theatre-dans-les-yeux-de-monet/
LOCATION:Val Joyeux
CATEGORIES:Solidarité
ATTACH;FMTTYPE=image/png:https://www.ville-yutz.fr/wp-content/uploads/2026/02/Fadama-repas-africain.png
ORGANIZER;CN="FADAMA":MAILTO:fadama@free.fr
END:VEVENT
BEGIN:VEVENT
DTSTART;TZID=Europe/Paris:20260308T140000
DTEND;TZID=Europe/Paris:20260308T170000
DTSTAMP:20260421T015056
CREATED:20260216T144547Z
LAST-MODIFIED:20260216T144547Z
UID:47215-1772978400-1772989200@www.ville-yutz.fr
SUMMARY:Allée du Rêve : Atelier créatif de Pâques
DESCRIPTION:
URL:https://www.ville-yutz.fr/event/allee-du-reve-atelier-creatif-de-paques/
LOCATION:M.J.C. la Pépinière Yutz\, 30 Rue de la Pépinière\, Yutz\, 57970\, France
CATEGORIES:Solidarité
ORGANIZER;CN="All%C3%A9e du R%C3%AAve":MAILTO:alleedureve@gmail.com
END:VEVENT
BEGIN:VEVENT
DTSTART;TZID=Europe/Paris:20260308T150000
DTEND;TZID=Europe/Paris:20260308T170000
DTSTAMP:20260421T015056
CREATED:20260216T152951Z
LAST-MODIFIED:20260216T152951Z
UID:47255-1772982000-1772989200@www.ville-yutz.fr
SUMMARY:FC Yutz : Séniors B / Pierrevillers FC
DESCRIPTION:
URL:https://www.ville-yutz.fr/event/fc-yutz-seniors-b-pierrevillers-fc/
LOCATION:Stade Mermoz
CATEGORIES:Sports
ORGANIZER;CN="FC Yutz":MAILTO:utz.fc@moselle.lgef.fr
END:VEVENT
BEGIN:VEVENT
DTSTART;TZID=Europe/Paris:20260308T150000
DTEND;TZID=Europe/Paris:20260308T170000
DTSTAMP:20260421T015056
CREATED:20260216T153225Z
LAST-MODIFIED:20260216T153225Z
UID:47257-1772982000-1772989200@www.ville-yutz.fr
SUMMARY:TYGRE : Séniors / Mulhouse
DESCRIPTION:
URL:https://www.ville-yutz.fr/event/tygre-seniors-mulhouse/
LOCATION:Stade Bernard Vasquez\, Rue de la Moselle\, YUTZ\, 57970\, France
CATEGORIES:Sports
END:VEVENT
END:VCALENDAR