BEGIN:VCALENDAR
VERSION:2.0
PRODID:-//Ville de Yutz - ECPv6.15.16//NONSGML v1.0//EN
CALSCALE:GREGORIAN
METHOD:PUBLISH
X-ORIGINAL-URL:https://www.ville-yutz.fr
X-WR-CALDESC:Évènements pour Ville de Yutz
REFRESH-INTERVAL;VALUE=DURATION:PT1H
X-Robots-Tag:noindex
X-PUBLISHED-TTL:PT1H
BEGIN:VTIMEZONE
TZID:Europe/Paris
BEGIN:DAYLIGHT
TZOFFSETFROM:+0100
TZOFFSETTO:+0200
TZNAME:CEST
DTSTART:20250330T010000
END:DAYLIGHT
BEGIN:STANDARD
TZOFFSETFROM:+0200
TZOFFSETTO:+0100
TZNAME:CET
DTSTART:20251026T010000
END:STANDARD
BEGIN:DAYLIGHT
TZOFFSETFROM:+0100
TZOFFSETTO:+0200
TZNAME:CEST
DTSTART:20260329T010000
END:DAYLIGHT
BEGIN:STANDARD
TZOFFSETFROM:+0200
TZOFFSETTO:+0100
TZNAME:CET
DTSTART:20261025T010000
END:STANDARD
BEGIN:DAYLIGHT
TZOFFSETFROM:+0100
TZOFFSETTO:+0200
TZNAME:CEST
DTSTART:20270328T010000
END:DAYLIGHT
BEGIN:STANDARD
TZOFFSETFROM:+0200
TZOFFSETTO:+0100
TZNAME:CET
DTSTART:20271031T010000
END:STANDARD
END:VTIMEZONE
BEGIN:VEVENT
DTSTART;TZID=Europe/Paris:20260306T203000
DTEND;TZID=Europe/Paris:20260306T220000
DTSTAMP:20260421T044711
CREATED:20260216T142801Z
LAST-MODIFIED:20260216T142801Z
UID:47207-1772829000-1772834400@www.ville-yutz.fr
SUMMARY:Théâtre "Jamais 2 sans 3" Cie Les ateliers de Sophie
DESCRIPTION:
URL:https://www.ville-yutz.fr/event/theatre-jamais-2-sans-3-cie-les-ateliers-de-sophie/
LOCATION:M.J.C. la Pépinière Yutz\, 30 Rue de la Pépinière\, Yutz\, 57970\, France
CATEGORIES:Culture
ATTACH;FMTTYPE=image/jpeg:https://www.ville-yutz.fr/wp-content/uploads/2026/02/MJC-theatre-jamais-deux-sans-trois.jpg
ORGANIZER;CN="M.J.C. La P%C3%A9pini%C3%A8re":MAILTO:accueil@mjc-yutz.com
END:VEVENT
END:VCALENDAR