BEGIN:VCALENDAR
VERSION:2.0
PRODID:-//Ville de Yutz - ECPv6.15.16//NONSGML v1.0//EN
CALSCALE:GREGORIAN
METHOD:PUBLISH
X-ORIGINAL-URL:https://www.ville-yutz.fr
X-WR-CALDESC:Évènements pour Ville de Yutz
REFRESH-INTERVAL;VALUE=DURATION:PT1H
X-Robots-Tag:noindex
X-PUBLISHED-TTL:PT1H
BEGIN:VTIMEZONE
TZID:Europe/Paris
BEGIN:DAYLIGHT
TZOFFSETFROM:+0100
TZOFFSETTO:+0200
TZNAME:CEST
DTSTART:20220327T010000
END:DAYLIGHT
BEGIN:STANDARD
TZOFFSETFROM:+0200
TZOFFSETTO:+0100
TZNAME:CET
DTSTART:20221030T010000
END:STANDARD
BEGIN:DAYLIGHT
TZOFFSETFROM:+0100
TZOFFSETTO:+0200
TZNAME:CEST
DTSTART:20230326T010000
END:DAYLIGHT
BEGIN:STANDARD
TZOFFSETFROM:+0200
TZOFFSETTO:+0100
TZNAME:CET
DTSTART:20231029T010000
END:STANDARD
BEGIN:DAYLIGHT
TZOFFSETFROM:+0100
TZOFFSETTO:+0200
TZNAME:CEST
DTSTART:20240331T010000
END:DAYLIGHT
BEGIN:STANDARD
TZOFFSETFROM:+0200
TZOFFSETTO:+0100
TZNAME:CET
DTSTART:20241027T010000
END:STANDARD
END:VTIMEZONE
BEGIN:VEVENT
DTSTART;VALUE=DATE:20230724
DTEND;VALUE=DATE:20230916
DTSTAMP:20260419T160250
CREATED:20230724T161401Z
LAST-MODIFIED:20230821T115130Z
UID:20841-1690156800-1694822399@www.ville-yutz.fr
SUMMARY:Inscriptions au TC Yutz Aéroparc
DESCRIPTION:Vous voulez découvrir le tennis en loisir ou en compétition ? \nRenseignements et inscriptions : yutztennisclub@gmail.com – Té: : 06 21 47 49 58 \nPossibilité d’inscriptions sur place les 2\, 6\, 9\, 13 et 16 septembre\, de 10h00 à 12h00 et de 14h00 à 17h00. \n 
URL:https://www.ville-yutz.fr/event/inscriptions-au-tc-yutz-aeroparc/
CATEGORIES:Sports
ATTACH;FMTTYPE=image/jpeg:https://www.ville-yutz.fr/wp-content/uploads/2023/07/tc-yutz-aeroparc.jpeg
END:VEVENT
BEGIN:VEVENT
DTSTART;TZID=Europe/Paris:20230902T103000
DTEND;TZID=Europe/Paris:20230902T120000
DTSTAMP:20260419T160250
CREATED:20230901T084028Z
LAST-MODIFIED:20230901T084028Z
UID:21660-1693650600-1693656000@www.ville-yutz.fr
SUMMARY:Foot - FC Yutz - DMF U13-1/DMF
DESCRIPTION:
URL:https://www.ville-yutz.fr/event/foot-fc-yutz-dmf-u13-1-dmf/
LOCATION:Stade Mermoz
CATEGORIES:Sports
ORGANIZER;CN="FC Yutz":MAILTO:utz.fc@moselle.lgef.fr
END:VEVENT
BEGIN:VEVENT
DTSTART;TZID=Europe/Paris:20230902T150000
DTEND;TZID=Europe/Paris:20230902T170000
DTSTAMP:20260419T160250
CREATED:20230901T084125Z
LAST-MODIFIED:20230901T084125Z
UID:21662-1693666800-1693674000@www.ville-yutz.fr
SUMMARY:Foot - FC Yutz - Championnat U15 / Lusitanos
DESCRIPTION:
URL:https://www.ville-yutz.fr/event/foot-fc-yutz-championnat-u15-lusitanos/
LOCATION:Stade Mermoz
CATEGORIES:Sports
ORGANIZER;CN="FC Yutz":MAILTO:utz.fc@moselle.lgef.fr
END:VEVENT
END:VCALENDAR