BEGIN:VCALENDAR
VERSION:2.0
PRODID:-//Ville de Yutz - ECPv6.15.16//NONSGML v1.0//EN
CALSCALE:GREGORIAN
METHOD:PUBLISH
X-WR-CALNAME:Ville de Yutz
X-ORIGINAL-URL:https://www.ville-yutz.fr
X-WR-CALDESC:Évènements pour Ville de Yutz
REFRESH-INTERVAL;VALUE=DURATION:PT1H
X-Robots-Tag:noindex
X-PUBLISHED-TTL:PT1H
BEGIN:VTIMEZONE
TZID:Europe/Paris
BEGIN:DAYLIGHT
TZOFFSETFROM:+0100
TZOFFSETTO:+0200
TZNAME:CEST
DTSTART:20220327T010000
END:DAYLIGHT
BEGIN:STANDARD
TZOFFSETFROM:+0200
TZOFFSETTO:+0100
TZNAME:CET
DTSTART:20221030T010000
END:STANDARD
BEGIN:DAYLIGHT
TZOFFSETFROM:+0100
TZOFFSETTO:+0200
TZNAME:CEST
DTSTART:20230326T010000
END:DAYLIGHT
BEGIN:STANDARD
TZOFFSETFROM:+0200
TZOFFSETTO:+0100
TZNAME:CET
DTSTART:20231029T010000
END:STANDARD
BEGIN:DAYLIGHT
TZOFFSETFROM:+0100
TZOFFSETTO:+0200
TZNAME:CEST
DTSTART:20240331T010000
END:DAYLIGHT
BEGIN:STANDARD
TZOFFSETFROM:+0200
TZOFFSETTO:+0100
TZNAME:CET
DTSTART:20241027T010000
END:STANDARD
END:VTIMEZONE
BEGIN:VEVENT
DTSTART;VALUE=DATE:20230606
DTEND;VALUE=DATE:20230628
DTSTAMP:20260420T115818
CREATED:20230328T152232Z
LAST-MODIFIED:20230328T152232Z
UID:17823-1686009600-1687910399@www.ville-yutz.fr
SUMMARY:Ateliers partagés parents-enfants
DESCRIPTION:
URL:https://www.ville-yutz.fr/event/ateliers-partages-parents-enfants-3/
LOCATION:Centre social Ô Couleurs du Monde\, 39 Rue du Vieux Bourg\, YUTZ\, 57970
CATEGORIES:Culture,Jeunesse,Solidarité
ATTACH;FMTTYPE=image/jpeg:https://www.ville-yutz.fr/wp-content/uploads/2023/03/casc-une-avril-mai-juin-scaled.jpg
END:VEVENT
BEGIN:VEVENT
DTSTART;TZID=Europe/Paris:20230623T203000
DTEND;TZID=Europe/Paris:20230623T203000
DTSTAMP:20260420T115818
CREATED:20230616T122636Z
LAST-MODIFIED:20230622T110242Z
UID:19827-1687552200-1687552200@www.ville-yutz.fr
SUMMARY:Chamber Metropolitan Trio
DESCRIPTION:Le Chamber Metropolitan Trio est un groupe musical qui mélange les influences de la musique classique européenne et française\, et du jazz.\n\n\nLes compositions de Matthieu ROFFÉ\, le pianiste du groupe\, sont inspirées par ses pérégrinations à travers le monde et plus précisément le Japon\, épris de sa culture\, son histoire\, sa philosophie.\nKinkaku-Ji et Bushido\, deux de leurs titres\, font écho à ces influences.\n\n\n\nPiano – Contrebasse – Batterie\n\n\n\n_____________________________\nTARIF BESTIEN\nTN : 10 € – TCSE : 7 € – TR : 6 €\nBilletterie en ligne : http://www.lamphy.com/
URL:https://www.ville-yutz.fr/event/chamber-metropolitan-trio/
LOCATION:Salle Bestien
CATEGORIES:Culture
ATTACH;FMTTYPE=image/jpeg:https://www.ville-yutz.fr/wp-content/uploads/2023/06/2023-06-23-Chamber-Metropolitan-Trio-affiche-scaled.jpg
END:VEVENT
END:VCALENDAR